BEGIN:VCALENDAR
VERSION:2.0
PRODID:-//Templo Lohan - ECPv6.6.4.2//NONSGML v1.0//EN
CALSCALE:GREGORIAN
METHOD:PUBLISH
X-WR-CALNAME:Templo Lohan
X-ORIGINAL-URL:https://templolohan.com
X-WR-CALDESC:Eventos para Templo Lohan
REFRESH-INTERVAL;VALUE=DURATION:PT1H
X-Robots-Tag:noindex
X-PUBLISHED-TTL:PT1H
BEGIN:VTIMEZONE
TZID:America/Sao_Paulo
BEGIN:STANDARD
TZOFFSETFROM:-0300
TZOFFSETTO:-0300
TZNAME:-03
DTSTART:20250101T000000
END:STANDARD
END:VTIMEZONE
BEGIN:VEVENT
DTSTART;TZID=America/Sao_Paulo:20250315T150000
DTEND;TZID=America/Sao_Paulo:20250510T190000
DTSTAMP:20260420T003247
CREATED:20241104T013029Z
LAST-MODIFIED:20250302T173350Z
UID:1980-1742050800-1746903600@templolohan.com
SUMMARY:Curso de Formação Shaolin Lohan 30 anos
DESCRIPTION:Para Celebrar os 30 Anos do Templo Lohan: O Retorno do Lendário Curso de Formação Shaolin! \nÉ com grande entusiasmo que anunciamos o retorno do Curso de Formação Shaolin\, uma jornada dedicada à formação de discípulos autênticos do Tradicional Shaolin da China. Sob a orientação do Venerável Mestre Shideyang e do Abade Shiyongxin\, os participantes serão guiados pelo caminho do Shaolin Chan\, onde a prática do Kung Fu se entrelaça com a sabedoria do Zen. \nEste curso intensivo oferece uma imersão profunda no currículo tradicional do Templo Shaolin\, incluindo o renomado sistema Duanpin\, que proporciona uma estrutura de graduação reconhecida. Ao final do curso\, os participantes receberão o título de GUERREIRO SHAOLIN e a certificação de Discípulo do Templo Lohan. Os alunos serão submetidos a um teste tradicional\, onde poderão conquistar a permissão para ministrar aulas de Shaolinquan (Punho de Shaolin). \nAlém do conteúdo técnico\, o curso abrange a rica cultura Shaolin e seus três tesouros: Chan (Zen)\, Wu (Kung Fu) e Medicina Chinesa. Os participantes terão a oportunidade de explorar a história do Templo Shaolin\, a filosofia budista\, bem como as tradições do Taoísmo. Também serão oferecidas aulas teóricas sobre a história da China\, do Kung Fu e da etiqueta das artes marciais. Os alunos poderão ainda aprender sobre caligrafia\, pintura\, a cerimônia do chá\, e a vivência de Kung Fu. \nUm destaque especial vai para Shifu Luis Mello\, discípulo formal de Shaolin Shixingluo (释行羅) e portador do quinto grau no sistema Duanpin. Recentemente graduado no sistema Duanwei\, a graduação oficial da China\, sob a tutela do lendário mestre Wubin\, conhecido por seu trabalho com Jet Li. A experiência e o conhecimento de Shifu Luis enriquecem ainda mais o curso\, proporcionando aos alunos uma oportunidade única de aprendizado e crescimento. \nDestinado a: \n\nPessoas de outras cidades ou estados\nAlunos regulares do Templo Lohan\n\nINFORMAÇÕES DO CURSO: \n\nLocal: Templo Lohan\, Rua Conselheiro Furtado\, 445 – Liberdade\, São Paulo.\n\nDatas e Horários: \n\n15 de março das 15h às 19h\n12 de abril das 15h às 19h\n10 de maio das 15h às 19h\n\nInscrição para não alunos Lohan: \n\n3 contribuições de R$ 300\,00 (cheque\, dinheiro à vista\, PIX ou crédito). Para garantir sua vaga\, deposite R$ 300\,00 na conta abaixo ou faça um PIX para CPF: 276.253.948-08. Lembramos que os pagamentos não são devolvidos.\n\nUniforme completo obrigatório: R$ 230\,00. \n  \nPrevisões para Shideyang no Brasil: \nDias 23\, 24 e 25 de maio (seminario principal)
URL:https://templolohan.com/evento/curso-de-formacao-shaolin-lohan-30-anos/
LOCATION:Templo Lohan\, Rua Conselheiro Furtado\, 445\, São Paulo\, Brasil
CATEGORIES:Curso de Formação
ATTACH;FMTTYPE=image/webp:https://templolohan.com/wp-content/uploads/2024/02/img-header-1.webp
END:VEVENT
END:VCALENDAR